BEGIN:VCALENDAR
VERSION:2.0
PRODID:-//horsealert.local//NONSGML kigkonsult.se iCalcreator 2.10.5//
CALSCALE:GREGORIAN
X-WR-TIMEZONE:Europe/Dublin
BEGIN:VTIMEZONE
TZID:Etc/GMT-1
BEGIN:STANDARD
DTSTART:20010101T000000
TZOFFSETFROM:+0100
TZOFFSETTO:+0100
TZNAME:GMT +01:00
END:STANDARD
END:VTIMEZONE
BEGIN:VEVENT
UID:20260421T231315CEST-8236fpVd9n@horsealert.local
DTSTAMP:20260421T210415Z
CATEGORIES:Horse Alerts
DESCRIPTION:Prix Iphigenia- Attele
DTSTART:20210601T131700
LOCATION:France
SUMMARY:Horse Racing:Prix Iphigenia- Attele
END:VEVENT
END:VCALENDAR
