BEGIN:VCALENDAR
VERSION:2.0
PRODID:-//horsealert.local//NONSGML kigkonsult.se iCalcreator 2.10.5//
CALSCALE:GREGORIAN
X-WR-TIMEZONE:Europe/Dublin
BEGIN:VTIMEZONE
TZID:Etc/GMT-1
BEGIN:STANDARD
DTSTART:20010101T000000
TZOFFSETFROM:+0100
TZOFFSETTO:+0100
TZNAME:GMT +01:00
END:STANDARD
END:VTIMEZONE
BEGIN:VEVENT
UID:20260421T230901CEST-0809zfZHTU@horsealert.local
DTSTAMP:20260421T210401Z
CATEGORIES:Horse Alerts
DESCRIPTION:vickers.bet Bet 10Get20 Promo Code Chepstow Novice Median Aucti
 on Stakes
DTSTART:20210621T143000
LOCATION:Wales
SUMMARY:Horse Racing:vickers.bet Bet 10Get20 Promo Code Chepstow Novice Med
 ian Auction Stakes
END:VEVENT
END:VCALENDAR
