BEGIN:VCALENDAR
VERSION:2.0
PRODID:-//horsealert.local//NONSGML kigkonsult.se iCalcreator 2.10.5//
CALSCALE:GREGORIAN
X-WR-TIMEZONE:Europe/Dublin
BEGIN:VTIMEZONE
TZID:Etc/GMT-1
BEGIN:STANDARD
DTSTART:20010101T000000
TZOFFSETFROM:+0100
TZOFFSETTO:+0100
TZNAME:GMT +01:00
END:STANDARD
END:VTIMEZONE
BEGIN:VEVENT
UID:20260421T201222CEST-6886edviIs@horsealert.local
DTSTAMP:20260421T180422Z
CATEGORIES:Horse Alerts
DESCRIPTION:Prix Ad Valoris - Attele
DTSTART:20210702T103000
LOCATION:France
SUMMARY:Horse Racing:Prix Ad Valoris - Attele
END:VEVENT
END:VCALENDAR
