BEGIN:VCALENDAR
VERSION:2.0
PRODID:-//horsealert.local//NONSGML kigkonsult.se iCalcreator 2.10.5//
CALSCALE:GREGORIAN
X-WR-TIMEZONE:Europe/Dublin
BEGIN:VTIMEZONE
TZID:Etc/GMT-1
BEGIN:STANDARD
DTSTART:20010101T000000
TZOFFSETFROM:+0100
TZOFFSETTO:+0100
TZNAME:GMT +01:00
END:STANDARD
END:VTIMEZONE
BEGIN:VEVENT
UID:20260421T201059CEST-0675pZwS0C@horsealert.local
DTSTAMP:20260421T180459Z
CATEGORIES:Horse Alerts
DESCRIPTION:Paddy Power Scurry Handicap
DTSTART:20210717T160000
LOCATION:Eire
SUMMARY:Horse Racing:Paddy Power Scurry Handicap
END:VEVENT
END:VCALENDAR
