BEGIN:VCALENDAR
VERSION:2.0
PRODID:-//horsealert.local//NONSGML kigkonsult.se iCalcreator 2.10.5//
CALSCALE:GREGORIAN
X-WR-TIMEZONE:Europe/Dublin
BEGIN:VTIMEZONE
TZID:Etc/GMT-1
BEGIN:STANDARD
DTSTART:20010101T000000
TZOFFSETFROM:+0100
TZOFFSETTO:+0100
TZNAME:GMT +01:00
END:STANDARD
END:VTIMEZONE
BEGIN:VEVENT
UID:20260421T201215CEST-2601P3khpu@horsealert.local
DTSTAMP:20260421T180415Z
CATEGORIES:Horse Alerts
DESCRIPTION:MansionBet Betstival Extra Places Handicap
DTSTART:20210729T162000
LOCATION:England
SUMMARY:Horse Racing:MansionBet Betstival Extra Places Handicap
END:VEVENT
END:VCALENDAR
