BEGIN:VCALENDAR
VERSION:2.0
PRODID:-//horsealert.local//NONSGML kigkonsult.se iCalcreator 2.10.5//
CALSCALE:GREGORIAN
X-WR-TIMEZONE:Europe/Dublin
BEGIN:VTIMEZONE
TZID:Etc/GMT-1
BEGIN:STANDARD
DTSTART:20010101T000000
TZOFFSETFROM:+0100
TZOFFSETTO:+0100
TZNAME:GMT +01:00
END:STANDARD
END:VTIMEZONE
BEGIN:VEVENT
UID:20260421T165013CEST-1255zUfmOO@horsealert.local
DTSTAMP:20260421T140413Z
CATEGORIES:Horse Alerts
DESCRIPTION:Thanks To All The Frontline Workers From Cork Racecourse Handic
 ap (45-65) (Div 2)
DTSTART:20210807T162000
LOCATION:Eire
SUMMARY:Horse Racing:Thanks To All The Frontline Workers From Cork Racecour
 se Handicap (45-65) (Div 2)
END:VEVENT
END:VCALENDAR
