BEGIN:VCALENDAR
VERSION:2.0
PRODID:-//horsealert.local//NONSGML kigkonsult.se iCalcreator 2.10.5//
CALSCALE:GREGORIAN
X-WR-TIMEZONE:Europe/Dublin
BEGIN:VTIMEZONE
TZID:Etc/GMT-1
BEGIN:STANDARD
DTSTART:20010101T000000
TZOFFSETFROM:+0100
TZOFFSETTO:+0100
TZNAME:GMT +01:00
END:STANDARD
END:VTIMEZONE
BEGIN:VEVENT
UID:20260421T183007CEST-2365JJJvDX@horsealert.local
DTSTAMP:20260421T160407Z
CATEGORIES:Horse Alerts
DESCRIPTION:Molson Coors Beverage Company Flat Race
DTSTART:20210808T165500
LOCATION:Northern Ireland
SUMMARY:Horse Racing:Molson Coors Beverage Company Flat Race
END:VEVENT
END:VCALENDAR
