BEGIN:VCALENDAR
VERSION:2.0
PRODID:-//horsealert.local//NONSGML kigkonsult.se iCalcreator 2.10.5//
CALSCALE:GREGORIAN
X-WR-TIMEZONE:Europe/Dublin
BEGIN:VTIMEZONE
TZID:Etc/GMT-1
BEGIN:STANDARD
DTSTART:20010101T000000
TZOFFSETFROM:+0100
TZOFFSETTO:+0100
TZNAME:GMT +01:00
END:STANDARD
END:VTIMEZONE
BEGIN:VEVENT
UID:20260421T170645CEST-6773vvH786@horsealert.local
DTSTAMP:20260421T150445Z
CATEGORIES:Horse Alerts
DESCRIPTION:Corniche Handicap
DTSTART:20210812T141500
LOCATION:France
SUMMARY:Horse Racing:Corniche Handicap
END:VEVENT
END:VCALENDAR
