BEGIN:VCALENDAR
VERSION:2.0
PRODID:-//horsealert.local//NONSGML kigkonsult.se iCalcreator 2.10.5//
CALSCALE:GREGORIAN
X-WR-TIMEZONE:Europe/Dublin
BEGIN:VTIMEZONE
TZID:Etc/GMT-1
BEGIN:STANDARD
DTSTART:20010101T000000
TZOFFSETFROM:+0100
TZOFFSETTO:+0100
TZNAME:GMT +01:00
END:STANDARD
END:VTIMEZONE
BEGIN:VEVENT
UID:20260421T170828CEST-2082Z6gXf7@horsealert.local
DTSTAMP:20260421T150428Z
CATEGORIES:Horse Alerts
DESCRIPTION:Prix Des Cactus - Attele
DTSTART:20210831T163000
LOCATION:France
SUMMARY:Horse Racing:Prix Des Cactus - Attele
END:VEVENT
END:VCALENDAR
