BEGIN:VCALENDAR
VERSION:2.0
PRODID:-//horsealert.local//NONSGML kigkonsult.se iCalcreator 2.10.5//
CALSCALE:GREGORIAN
X-WR-TIMEZONE:Europe/Dublin
BEGIN:VTIMEZONE
TZID:Etc/GMT-1
BEGIN:STANDARD
DTSTART:20010101T000000
TZOFFSETFROM:+0100
TZOFFSETTO:+0100
TZNAME:GMT +01:00
END:STANDARD
END:VTIMEZONE
BEGIN:VEVENT
UID:20260421T164934CEST-5891G9CbOv@horsealert.local
DTSTAMP:20260421T140434Z
CATEGORIES:Horse Alerts
DESCRIPTION:Sodexo Party Nights At Hamilton Park Veterans' Handicap
DTSTART:20210920T152200
LOCATION:Scotland
SUMMARY:Horse Racing:Sodexo Party Nights At Hamilton Park Veterans' Handica
 p
END:VEVENT
END:VCALENDAR
