BEGIN:VCALENDAR
VERSION:2.0
PRODID:-//horsealert.local//NONSGML kigkonsult.se iCalcreator 2.10.5//
CALSCALE:GREGORIAN
X-WR-TIMEZONE:Europe/Dublin
BEGIN:VTIMEZONE
TZID:Etc/GMT-1
BEGIN:STANDARD
DTSTART:20010101T000000
TZOFFSETFROM:+0100
TZOFFSETTO:+0100
TZNAME:GMT +01:00
END:STANDARD
END:VTIMEZONE
BEGIN:VEVENT
UID:20260421T151316CEST-4309pstO0a@horsealert.local
DTSTAMP:20260421T130416Z
CATEGORIES:Horse Alerts
DESCRIPTION:Training Courses Available At scottishracingacademy.co.uk Handi
 cap (Div 2)
DTSTART:20210920T163000
LOCATION:Scotland
SUMMARY:Horse Racing:Training Courses Available At scottishracingacademy.co
 .uk Handicap (Div 2)
END:VEVENT
END:VCALENDAR
