BEGIN:VCALENDAR
VERSION:2.0
PRODID:-//horsealert.local//NONSGML kigkonsult.se iCalcreator 2.10.5//
CALSCALE:GREGORIAN
X-WR-TIMEZONE:Europe/Dublin
BEGIN:VTIMEZONE
TZID:Etc/GMT-1
BEGIN:STANDARD
DTSTART:20010101T000000
TZOFFSETFROM:+0100
TZOFFSETTO:+0100
TZNAME:GMT +01:00
END:STANDARD
END:VTIMEZONE
BEGIN:VEVENT
UID:20260421T164938CEST-97382XoBmM@horsealert.local
DTSTAMP:20260421T140438Z
CATEGORIES:Horse Alerts
DESCRIPTION:Poundland Foundation Supports Make-A-Wish UK Novices' Hurdle (G
 BB Race)
DTSTART:20210921T141000
LOCATION:England
SUMMARY:Horse Racing:Poundland Foundation Supports Make-A-Wish UK Novices' 
 Hurdle (GBB Race)
END:VEVENT
END:VCALENDAR
