BEGIN:VCALENDAR
VERSION:2.0
PRODID:-//horsealert.local//NONSGML kigkonsult.se iCalcreator 2.10.5//
CALSCALE:GREGORIAN
X-WR-TIMEZONE:Europe/Dublin
BEGIN:VTIMEZONE
TZID:Etc/GMT-1
BEGIN:STANDARD
DTSTART:20010101T000000
TZOFFSETFROM:+0100
TZOFFSETTO:+0100
TZNAME:GMT +01:00
END:STANDARD
END:VTIMEZONE
BEGIN:VEVENT
UID:20260421T151200CEST-9565oj9EDn@horsealert.local
DTSTAMP:20260421T130400Z
CATEGORIES:Horse Alerts
DESCRIPTION:Prof Collet Claiming Stakes
DTSTART:20210923T164500
LOCATION:France
SUMMARY:Horse Racing:Prof Collet Claiming Stakes
END:VEVENT
END:VCALENDAR
