BEGIN:VCALENDAR
VERSION:2.0
PRODID:-//horsealert.local//NONSGML kigkonsult.se iCalcreator 2.10.5//
CALSCALE:GREGORIAN
X-WR-TIMEZONE:Europe/Dublin
BEGIN:VTIMEZONE
TZID:Etc/GMT-1
BEGIN:STANDARD
DTSTART:20010101T000000
TZOFFSETFROM:+0100
TZOFFSETTO:+0100
TZNAME:GMT +01:00
END:STANDARD
END:VTIMEZONE
BEGIN:VEVENT
UID:20260421T151343CEST-8900i97Pdh@horsealert.local
DTSTAMP:20260421T130443Z
CATEGORIES:Horse Alerts
DESCRIPTION:Betway EBF Maiden Stakes (Colts And Geldings)
DTSTART:20210924T140000
LOCATION:England
SUMMARY:Horse Racing:Betway EBF Maiden Stakes (Colts And Geldings)
END:VEVENT
END:VCALENDAR
