BEGIN:VCALENDAR
VERSION:2.0
PRODID:-//horsealert.local//NONSGML kigkonsult.se iCalcreator 2.10.5//
CALSCALE:GREGORIAN
X-WR-TIMEZONE:Europe/Dublin
BEGIN:VTIMEZONE
TZID:Etc/GMT-1
BEGIN:STANDARD
DTSTART:20010101T000000
TZOFFSETFROM:+0100
TZOFFSETTO:+0100
TZNAME:GMT +01:00
END:STANDARD
END:VTIMEZONE
BEGIN:VEVENT
UID:20260421T164935CEST-7679f4f2Dv@horsealert.local
DTSTAMP:20260421T140435Z
CATEGORIES:Horse Alerts
DESCRIPTION:Country Living Group - The Home Straight Handicap
DTSTART:20210926T154500
LOCATION:Wales
SUMMARY:Horse Racing:Country Living Group - The Home Straight Handicap
END:VEVENT
END:VCALENDAR
