BEGIN:VCALENDAR
VERSION:2.0
PRODID:-//horsealert.local//NONSGML kigkonsult.se iCalcreator 2.10.5//
CALSCALE:GREGORIAN
X-WR-TIMEZONE:Europe/Dublin
BEGIN:VTIMEZONE
TZID:Etc/GMT-1
BEGIN:STANDARD
DTSTART:20010101T000000
TZOFFSETFROM:+0100
TZOFFSETTO:+0100
TZNAME:GMT +01:00
END:STANDARD
END:VTIMEZONE
BEGIN:VEVENT
UID:20260421T165242CEST-1998aoj4mr@horsealert.local
DTSTAMP:20260421T140442Z
CATEGORIES:Horse Alerts
DESCRIPTION:Chap. St Aubain Handicap
DTSTART:20211001T134900
LOCATION:France
SUMMARY:Horse Racing:Chap. St Aubain Handicap
END:VEVENT
END:VCALENDAR
