BEGIN:VCALENDAR
VERSION:2.0
PRODID:-//horsealert.local//NONSGML kigkonsult.se iCalcreator 2.10.5//
CALSCALE:GREGORIAN
X-WR-TIMEZONE:Europe/Dublin
BEGIN:VTIMEZONE
TZID:Etc/GMT-1
BEGIN:STANDARD
DTSTART:20010101T000000
TZOFFSETFROM:+0100
TZOFFSETTO:+0100
TZNAME:GMT +01:00
END:STANDARD
END:VTIMEZONE
BEGIN:VEVENT
UID:20260421T134235CEST-85746A7Ztl@horsealert.local
DTSTAMP:20260421T110435Z
CATEGORIES:Horse Alerts
DESCRIPTION:Lengthen Your Odds With BetVictor Handicap
DTSTART:20211018T151200
LOCATION:Eire
SUMMARY:Horse Racing:Lengthen Your Odds With BetVictor Handicap
END:VEVENT
END:VCALENDAR
