BEGIN:VCALENDAR
VERSION:2.0
PRODID:-//horsealert.local//NONSGML kigkonsult.se iCalcreator 2.10.5//
CALSCALE:GREGORIAN
X-WR-TIMEZONE:Europe/Dublin
BEGIN:VTIMEZONE
TZID:Etc/GMT-1
BEGIN:STANDARD
DTSTART:20010101T000000
TZOFFSETFROM:+0100
TZOFFSETTO:+0100
TZNAME:GMT +01:00
END:STANDARD
END:VTIMEZONE
BEGIN:VEVENT
UID:20260421T134045CEST-8381Rs6R1n@horsealert.local
DTSTAMP:20260421T110445Z
CATEGORIES:Horse Alerts
DESCRIPTION:Bangor On Dee Races Handicap Chase
DTSTART:20211026T170000
LOCATION:Wales
SUMMARY:Horse Racing:Bangor On Dee Races Handicap Chase
END:VEVENT
END:VCALENDAR
