BEGIN:VCALENDAR
VERSION:2.0
PRODID:-//horsealert.local//NONSGML kigkonsult.se iCalcreator 2.10.5//
CALSCALE:GREGORIAN
X-WR-TIMEZONE:Europe/Dublin
BEGIN:VTIMEZONE
TZID:Etc/GMT-1
BEGIN:STANDARD
DTSTART:20010101T000000
TZOFFSETFROM:+0100
TZOFFSETTO:+0100
TZNAME:GMT +01:00
END:STANDARD
END:VTIMEZONE
BEGIN:VEVENT
UID:20260421T133748CEST-5840kfF2Cs@horsealert.local
DTSTAMP:20260421T110448Z
CATEGORIES:Horse Alerts
DESCRIPTION:Chene Cp Foudre Handicap - AWT
DTSTART:20211026T115000
LOCATION:France
SUMMARY:Horse Racing:Chene Cp Foudre Handicap - AWT
END:VEVENT
END:VCALENDAR
