BEGIN:VCALENDAR
VERSION:2.0
PRODID:-//horsealert.local//NONSGML kigkonsult.se iCalcreator 2.10.5//
CALSCALE:GREGORIAN
X-WR-TIMEZONE:Europe/Dublin
BEGIN:VTIMEZONE
TZID:Etc/GMT-1
BEGIN:STANDARD
DTSTART:20010101T000000
TZOFFSETFROM:+0100
TZOFFSETTO:+0100
TZNAME:GMT +01:00
END:STANDARD
END:VTIMEZONE
BEGIN:VEVENT
UID:20260421T120403CEST-4427TVAaiM@horsealert.local
DTSTAMP:20260421T100403Z
CATEGORIES:Horse Alerts
DESCRIPTION:Esther Sidgwick Memorial Novices' Handicap Chase (GBB Race)
DTSTART:20211105T141000
LOCATION:England
SUMMARY:Horse Racing:Esther Sidgwick Memorial Novices' Handicap Chase (GBB 
 Race)
END:VEVENT
END:VCALENDAR
