BEGIN:VCALENDAR
VERSION:2.0
PRODID:-//horsealert.local//NONSGML kigkonsult.se iCalcreator 2.10.5//
CALSCALE:GREGORIAN
X-WR-TIMEZONE:Europe/Dublin
BEGIN:VTIMEZONE
TZID:Etc/GMT-1
BEGIN:STANDARD
DTSTART:20010101T000000
TZOFFSETFROM:+0100
TZOFFSETTO:+0100
TZNAME:GMT +01:00
END:STANDARD
END:VTIMEZONE
BEGIN:VEVENT
UID:20260421T120348CEST-1843X2PDVU@horsealert.local
DTSTAMP:20260421T100448Z
CATEGORIES:Horse Alerts
DESCRIPTION:St. Peter's Dunboyne GAA Maiden Hurdle (Div 1)
DTSTART:20211127T130100
LOCATION:Eire
SUMMARY:Horse Racing:St. Peter's Dunboyne GAA Maiden Hurdle (Div 1)
END:VEVENT
END:VCALENDAR
