BEGIN:VCALENDAR
VERSION:2.0
PRODID:-//horsealert.local//NONSGML kigkonsult.se iCalcreator 2.10.5//
CALSCALE:GREGORIAN
X-WR-TIMEZONE:Europe/Dublin
BEGIN:VTIMEZONE
TZID:Etc/GMT-1
BEGIN:STANDARD
DTSTART:20010101T000000
TZOFFSETFROM:+0100
TZOFFSETTO:+0100
TZNAME:GMT +01:00
END:STANDARD
END:VTIMEZONE
BEGIN:VEVENT
UID:20260421T120242CEST-8869oJk47g@horsealert.local
DTSTAMP:20260421T100442Z
CATEGORIES:Horse Alerts
DESCRIPTION:Robin Spencer Appreciation And Retirement Novices' Limited Hand
 icap Chase (GBB Race)
DTSTART:20211130T132500
LOCATION:England
SUMMARY:Horse Racing:Robin Spencer Appreciation And Retirement Novices' Lim
 ited Handicap Chase (GBB Race)
END:VEVENT
END:VCALENDAR
