BEGIN:VCALENDAR
VERSION:2.0
PRODID:-//horsealert.local//NONSGML kigkonsult.se iCalcreator 2.10.5//
CALSCALE:GREGORIAN
X-WR-TIMEZONE:Europe/Dublin
BEGIN:VTIMEZONE
TZID:Etc/GMT-1
BEGIN:STANDARD
DTSTART:20010101T000000
TZOFFSETFROM:+0100
TZOFFSETTO:+0100
TZNAME:GMT +01:00
END:STANDARD
END:VTIMEZONE
BEGIN:VEVENT
UID:20260421T071428CEST-3977nBUvuz@horsealert.local
DTSTAMP:20260421T050428Z
CATEGORIES:Horse Alerts
DESCRIPTION:George & Margaret Failte Air Ais Comharrahadh Novices' Handicap
  Hurdle
DTSTART:20211205T144300
LOCATION:Scotland
SUMMARY:Horse Racing:George & Margaret Failte Air Ais Comharrahadh Novices'
  Handicap Hurdle
END:VEVENT
END:VCALENDAR
