BEGIN:VCALENDAR
VERSION:2.0
PRODID:-//horsealert.local//NONSGML kigkonsult.se iCalcreator 2.10.5//
CALSCALE:GREGORIAN
X-WR-TIMEZONE:Europe/Dublin
BEGIN:VTIMEZONE
TZID:Etc/GMT-1
BEGIN:STANDARD
DTSTART:20010101T000000
TZOFFSETFROM:+0100
TZOFFSETTO:+0100
TZNAME:GMT +01:00
END:STANDARD
END:VTIMEZONE
BEGIN:VEVENT
UID:20260421T071835CEST-4418CGMVDI@horsealert.local
DTSTAMP:20260421T050435Z
CATEGORIES:Horse Alerts
DESCRIPTION:Betway Maiden Plate (f & M)(for Maiden Fillies And Mares)
DTSTART:20211228T145500
LOCATION:South Africa
SUMMARY:Horse Racing:Betway Maiden Plate (f & M)(for Maiden Fillies And Mar
 es)
END:VEVENT
END:VCALENDAR
