BEGIN:VCALENDAR
VERSION:2.0
PRODID:-//horsealert.local//NONSGML kigkonsult.se iCalcreator 2.10.5//
CALSCALE:GREGORIAN
X-WR-TIMEZONE:Europe/Dublin
BEGIN:VTIMEZONE
TZID:Etc/GMT-1
BEGIN:STANDARD
DTSTART:20010101T000000
TZOFFSETFROM:+0100
TZOFFSETTO:+0100
TZNAME:GMT +01:00
END:STANDARD
END:VTIMEZONE
BEGIN:VEVENT
UID:20260421T071708CEST-5561EUm22t@horsealert.local
DTSTAMP:20260421T050408Z
CATEGORIES:Horse Alerts
DESCRIPTION:Yorkshire Silver Vase Mares' Chase (Listed) (GBB Race)
DTSTART:20211229T152000
LOCATION:England
SUMMARY:Horse Racing:Yorkshire Silver Vase Mares' Chase (Listed) (GBB Race)
END:VEVENT
END:VCALENDAR
