BEGIN:VCALENDAR
VERSION:2.0
PRODID:-//horsealert.local//NONSGML kigkonsult.se iCalcreator 2.10.5//
CALSCALE:GREGORIAN
X-WR-TIMEZONE:Europe/Dublin
BEGIN:VTIMEZONE
TZID:Etc/GMT-1
BEGIN:STANDARD
DTSTART:20010101T000000
TZOFFSETFROM:+0100
TZOFFSETTO:+0100
TZNAME:GMT +01:00
END:STANDARD
END:VTIMEZONE
BEGIN:VEVENT
UID:20260421T053744CEST-8477sjEpLT@horsealert.local
DTSTAMP:20260421T030444Z
CATEGORIES:Horse Alerts
DESCRIPTION:rapidcharge.com Leading EV Charging Solution Handicap Hurdle
DTSTART:20220108T144000
LOCATION:England
SUMMARY:Horse Racing:rapidcharge.com Leading EV Charging Solution Handicap 
 Hurdle
END:VEVENT
END:VCALENDAR
