BEGIN:VCALENDAR
VERSION:2.0
PRODID:-//horsealert.local//NONSGML kigkonsult.se iCalcreator 2.10.5//
CALSCALE:GREGORIAN
X-WR-TIMEZONE:Europe/Dublin
BEGIN:VTIMEZONE
TZID:Etc/GMT-1
BEGIN:STANDARD
DTSTART:20010101T000000
TZOFFSETFROM:+0100
TZOFFSETTO:+0100
TZNAME:GMT +01:00
END:STANDARD
END:VTIMEZONE
BEGIN:VEVENT
UID:20260421T053632CEST-8238TWPopu@horsealert.local
DTSTAMP:20260421T030432Z
CATEGORIES:Horse Alerts
DESCRIPTION:Prix Promising Catch - Attele
DTSTART:20220113T132500
LOCATION:France
SUMMARY:Horse Racing:Prix Promising Catch - Attele
END:VEVENT
END:VCALENDAR
