BEGIN:VCALENDAR
VERSION:2.0
PRODID:-//horsealert.local//NONSGML kigkonsult.se iCalcreator 2.10.5//
CALSCALE:GREGORIAN
X-WR-TIMEZONE:Europe/Dublin
BEGIN:VTIMEZONE
TZID:Etc/GMT-1
BEGIN:STANDARD
DTSTART:20010101T000000
TZOFFSETFROM:+0100
TZOFFSETTO:+0100
TZNAME:GMT +01:00
END:STANDARD
END:VTIMEZONE
BEGIN:VEVENT
UID:20260421T071425CEST-1477v0EKA7@horsealert.local
DTSTAMP:20260421T050425Z
CATEGORIES:Horse Alerts
DESCRIPTION:Prix De La Societe Hippique - Attele
DTSTART:20220129T164200
LOCATION:France
SUMMARY:Horse Racing:Prix De La Societe Hippique - Attele
END:VEVENT
END:VCALENDAR
