BEGIN:VCALENDAR
VERSION:2.0
PRODID:-//horsealert.local//NONSGML kigkonsult.se iCalcreator 2.10.5//
CALSCALE:GREGORIAN
X-WR-TIMEZONE:Europe/Dublin
BEGIN:VTIMEZONE
TZID:Etc/GMT-1
BEGIN:STANDARD
DTSTART:20010101T000000
TZOFFSETFROM:+0100
TZOFFSETTO:+0100
TZNAME:GMT +01:00
END:STANDARD
END:VTIMEZONE
BEGIN:VEVENT
UID:20260421T071519CEST-2929BUpVE7@horsealert.local
DTSTAMP:20260421T050419Z
CATEGORIES:Horse Alerts
DESCRIPTION:Yue Man Handicap
DTSTART:20220206T060000
LOCATION:Hong Kong
SUMMARY:Horse Racing:Yue Man Handicap
END:VEVENT
END:VCALENDAR
