BEGIN:VCALENDAR
VERSION:2.0
PRODID:-//horsealert.local//NONSGML kigkonsult.se iCalcreator 2.10.5//
CALSCALE:GREGORIAN
X-WR-TIMEZONE:Europe/Dublin
BEGIN:VTIMEZONE
TZID:Etc/GMT-1
BEGIN:STANDARD
DTSTART:20010101T000000
TZOFFSETFROM:+0100
TZOFFSETTO:+0100
TZNAME:GMT +01:00
END:STANDARD
END:VTIMEZONE
BEGIN:VEVENT
UID:20260421T053743CEST-7595RLU2OH@horsealert.local
DTSTAMP:20260421T030443Z
CATEGORIES:Horse Alerts
DESCRIPTION:Hollywoodbets Bet 10 Get 30 P.P. Hogan Memorial Cross Country C
 hase
DTSTART:20220213T134000
LOCATION:Eire
SUMMARY:Horse Racing:Hollywoodbets Bet 10 Get 30 P.P. Hogan Memorial Cross 
 Country Chase
END:VEVENT
END:VCALENDAR
