BEGIN:VCALENDAR
VERSION:2.0
PRODID:-//horsealert.local//NONSGML kigkonsult.se iCalcreator 2.10.5//
CALSCALE:GREGORIAN
X-WR-TIMEZONE:Europe/Dublin
BEGIN:VTIMEZONE
TZID:Etc/GMT-1
BEGIN:STANDARD
DTSTART:20010101T000000
TZOFFSETFROM:+0100
TZOFFSETTO:+0100
TZNAME:GMT +01:00
END:STANDARD
END:VTIMEZONE
BEGIN:VEVENT
UID:20260421T040223CEST-1824ORUWuB@horsealert.local
DTSTAMP:20260421T020423Z
CATEGORIES:Horse Alerts
DESCRIPTION:Next Turffontein Racemeeting Thursday 24 February Classified St
 akes
DTSTART:20220219T145500
LOCATION:South Africa
SUMMARY:Horse Racing:Next Turffontein Racemeeting Thursday 24 February Clas
 sified Stakes
END:VEVENT
END:VCALENDAR
