BEGIN:VCALENDAR
VERSION:2.0
PRODID:-//horsealert.local//NONSGML kigkonsult.se iCalcreator 2.10.5//
CALSCALE:GREGORIAN
X-WR-TIMEZONE:Europe/Dublin
BEGIN:VTIMEZONE
TZID:Etc/GMT-1
BEGIN:STANDARD
DTSTART:20010101T000000
TZOFFSETFROM:+0100
TZOFFSETTO:+0100
TZNAME:GMT +01:00
END:STANDARD
END:VTIMEZONE
BEGIN:VEVENT
UID:20260421T053823CEST-3120ov0EIK@horsealert.local
DTSTAMP:20260421T030423Z
CATEGORIES:Horse Alerts
DESCRIPTION:Prix Jean Louf - Attele
DTSTART:20220226T125000
LOCATION:France
SUMMARY:Horse Racing:Prix Jean Louf - Attele
END:VEVENT
END:VCALENDAR
