BEGIN:VCALENDAR
VERSION:2.0
PRODID:-//horsealert.local//NONSGML kigkonsult.se iCalcreator 2.10.5//
CALSCALE:GREGORIAN
X-WR-TIMEZONE:Europe/Dublin
BEGIN:VTIMEZONE
TZID:Etc/GMT-1
BEGIN:STANDARD
DTSTART:20010101T000000
TZOFFSETFROM:+0100
TZOFFSETTO:+0100
TZNAME:GMT +01:00
END:STANDARD
END:VTIMEZONE
BEGIN:VEVENT
UID:20260421T021754CEST-9430hhBiHL@horsealert.local
DTSTAMP:20260421T000454Z
CATEGORIES:Horse Alerts
DESCRIPTION:Micky Boughey\, Cobblers To 'Em All Handicap Hurdle
DTSTART:20220313T152000
LOCATION:England
SUMMARY:Horse Racing:Micky Boughey\, Cobblers To 'Em All Handicap Hurdle
END:VEVENT
END:VCALENDAR
