BEGIN:VCALENDAR
VERSION:2.0
PRODID:-//horsealert.local//NONSGML kigkonsult.se iCalcreator 2.10.5//
CALSCALE:GREGORIAN
X-WR-TIMEZONE:Europe/Dublin
BEGIN:VTIMEZONE
TZID:Etc/GMT-1
BEGIN:STANDARD
DTSTART:20010101T000000
TZOFFSETFROM:+0100
TZOFFSETTO:+0100
TZNAME:GMT +01:00
END:STANDARD
END:VTIMEZONE
BEGIN:VEVENT
UID:20260421T021429CEST-2042tCLzCT@horsealert.local
DTSTAMP:20260421T000429Z
CATEGORIES:Horse Alerts
DESCRIPTION:Play Coral Racing-Super-Series For Free Handicap
DTSTART:20220316T191500
LOCATION:England
SUMMARY:Horse Racing:Play Coral Racing-Super-Series For Free Handicap
END:VEVENT
END:VCALENDAR
