BEGIN:VCALENDAR
VERSION:2.0
PRODID:-//horsealert.local//NONSGML kigkonsult.se iCalcreator 2.10.5//
CALSCALE:GREGORIAN
X-WR-TIMEZONE:Europe/Dublin
BEGIN:VTIMEZONE
TZID:Etc/GMT-1
BEGIN:STANDARD
DTSTART:20010101T000000
TZOFFSETFROM:+0100
TZOFFSETTO:+0100
TZNAME:GMT +01:00
END:STANDARD
END:VTIMEZONE
BEGIN:VEVENT
UID:20260421T021539CEST-39672G6XW9@horsealert.local
DTSTAMP:20260421T000439Z
CATEGORIES:Horse Alerts
DESCRIPTION:Play 4 To Score At Betway Handicap
DTSTART:20220401T201000
LOCATION:England
SUMMARY:Horse Racing:Play 4 To Score At Betway Handicap
END:VEVENT
END:VCALENDAR
