BEGIN:VCALENDAR
VERSION:2.0
PRODID:-//horsealert.local//NONSGML kigkonsult.se iCalcreator 2.10.5//
CALSCALE:GREGORIAN
X-WR-TIMEZONE:Europe/Dublin
BEGIN:VTIMEZONE
TZID:Etc/GMT-1
BEGIN:STANDARD
DTSTART:20010101T000000
TZOFFSETFROM:+0100
TZOFFSETTO:+0100
TZNAME:GMT +01:00
END:STANDARD
END:VTIMEZONE
BEGIN:VEVENT
UID:20260421T003751CEST-9464AP9HO7@horsealert.local
DTSTAMP:20260420T220451Z
CATEGORIES:Horse Alerts
DESCRIPTION:Calas Stakes
DTSTART:20220408T145000
LOCATION:France
SUMMARY:Horse Racing:Calas Stakes
END:VEVENT
END:VCALENDAR
