BEGIN:VCALENDAR
VERSION:2.0
PRODID:-//horsealert.local//NONSGML kigkonsult.se iCalcreator 2.10.5//
CALSCALE:GREGORIAN
X-WR-TIMEZONE:Europe/Dublin
BEGIN:VTIMEZONE
TZID:Etc/GMT-1
BEGIN:STANDARD
DTSTART:20010101T000000
TZOFFSETFROM:+0100
TZOFFSETTO:+0100
TZNAME:GMT +01:00
END:STANDARD
END:VTIMEZONE
BEGIN:VEVENT
UID:20260421T003502CEST-2714unrxWb@horsealert.local
DTSTAMP:20260420T220402Z
CATEGORIES:Horse Alerts
DESCRIPTION:David Andrews Belated 80th Birthday Celebration Fillies' Handic
 ap
DTSTART:20220411T160500
LOCATION:England
SUMMARY:Horse Racing:David Andrews Belated 80th Birthday Celebration Fillie
 s' Handicap
END:VEVENT
END:VCALENDAR
