BEGIN:VCALENDAR
VERSION:2.0
PRODID:-//horsealert.local//NONSGML kigkonsult.se iCalcreator 2.10.5//
CALSCALE:GREGORIAN
X-WR-TIMEZONE:Europe/Dublin
BEGIN:VTIMEZONE
TZID:Etc/GMT-1
BEGIN:STANDARD
DTSTART:20010101T000000
TZOFFSETFROM:+0100
TZOFFSETTO:+0100
TZNAME:GMT +01:00
END:STANDARD
END:VTIMEZONE
BEGIN:VEVENT
UID:20260421T003428CEST-5994os2uzE@horsealert.local
DTSTAMP:20260420T220428Z
CATEGORIES:Horse Alerts
DESCRIPTION:Ornan Kitchens Maiden
DTSTART:20220420T192000
LOCATION:Eire
SUMMARY:Horse Racing:Ornan Kitchens Maiden
END:VEVENT
END:VCALENDAR
