BEGIN:VCALENDAR
VERSION:2.0
PRODID:-//horsealert.local//NONSGML kigkonsult.se iCalcreator 2.10.5//
CALSCALE:GREGORIAN
X-WR-TIMEZONE:Europe/Dublin
BEGIN:VTIMEZONE
TZID:Etc/GMT-1
BEGIN:STANDARD
DTSTART:20010101T000000
TZOFFSETFROM:+0100
TZOFFSETTO:+0100
TZNAME:GMT +01:00
END:STANDARD
END:VTIMEZONE
BEGIN:VEVENT
UID:20260421T021610CEST-3306NK1f9e@horsealert.local
DTSTAMP:20260421T000410Z
CATEGORIES:Horse Alerts
DESCRIPTION:Cazoo Handicap (Div 2)
DTSTART:20220424T133000
LOCATION:England
SUMMARY:Horse Racing:Cazoo Handicap (Div 2)
END:VEVENT
END:VCALENDAR
