BEGIN:VCALENDAR
VERSION:2.0
PRODID:-//horsealert.local//NONSGML kigkonsult.se iCalcreator 2.10.5//
CALSCALE:GREGORIAN
X-WR-TIMEZONE:Europe/Dublin
BEGIN:VTIMEZONE
TZID:Etc/GMT-1
BEGIN:STANDARD
DTSTART:20010101T000000
TZOFFSETFROM:+0100
TZOFFSETTO:+0100
TZNAME:GMT +01:00
END:STANDARD
END:VTIMEZONE
BEGIN:VEVENT
UID:20260421T003745CEST-7542zD1EdT@horsealert.local
DTSTAMP:20260420T220445Z
CATEGORIES:Horse Alerts
DESCRIPTION:bettingsites.ltd.uk Promotional Sign Up Offers Restricted Novic
 e Stakes (GBB Race)
DTSTART:20220425T193500
LOCATION:England
SUMMARY:Horse Racing:bettingsites.ltd.uk Promotional Sign Up Offers Restric
 ted Novice Stakes (GBB Race)
END:VEVENT
END:VCALENDAR
