BEGIN:VCALENDAR
VERSION:2.0
PRODID:-//horsealert.local//NONSGML kigkonsult.se iCalcreator 2.10.5//
CALSCALE:GREGORIAN
X-WR-TIMEZONE:Europe/Dublin
BEGIN:VTIMEZONE
TZID:Etc/GMT-1
BEGIN:STANDARD
DTSTART:20010101T000000
TZOFFSETFROM:+0100
TZOFFSETTO:+0100
TZNAME:GMT +01:00
END:STANDARD
END:VTIMEZONE
BEGIN:VEVENT
UID:20260421T053336CEST-9231f4CTkB@horsealert.local
DTSTAMP:20260421T030436Z
CATEGORIES:Horse Alerts
DESCRIPTION:William Hill Scratch Of The Day Handicap
DTSTART:20220429T162500
LOCATION:England
SUMMARY:Horse Racing:William Hill Scratch Of The Day Handicap
END:VEVENT
END:VCALENDAR
