BEGIN:VCALENDAR
VERSION:2.0
PRODID:-//horsealert.local//NONSGML kigkonsult.se iCalcreator 2.10.5//
CALSCALE:GREGORIAN
X-WR-TIMEZONE:Europe/Dublin
BEGIN:VTIMEZONE
TZID:Etc/GMT-1
BEGIN:STANDARD
DTSTART:20010101T000000
TZOFFSETFROM:+0100
TZOFFSETTO:+0100
TZNAME:GMT +01:00
END:STANDARD
END:VTIMEZONE
BEGIN:VEVENT
UID:20260421T003500CEST-0810h3OFmv@horsealert.local
DTSTAMP:20260420T220400Z
CATEGORIES:Horse Alerts
DESCRIPTION:Next Turffontein Racemeeting Thursday 5 May Work Riders Vs Jock
 eys Challenge Maiden Plate
DTSTART:20220430T160300
LOCATION:South Africa
SUMMARY:Horse Racing:Next Turffontein Racemeeting Thursday 5 May Work Rider
 s Vs Jockeys Challenge Maiden Plate
END:VEVENT
END:VCALENDAR
