BEGIN:VCALENDAR
VERSION:2.0
PRODID:-//horsealert.local//NONSGML kigkonsult.se iCalcreator 2.10.5//
CALSCALE:GREGORIAN
X-WR-TIMEZONE:Europe/Dublin
BEGIN:VTIMEZONE
TZID:Etc/GMT-1
BEGIN:STANDARD
DTSTART:20010101T000000
TZOFFSETFROM:+0100
TZOFFSETTO:+0100
TZNAME:GMT +01:00
END:STANDARD
END:VTIMEZONE
BEGIN:VEVENT
UID:20260421T003222CEST-7912t66vJl@horsealert.local
DTSTAMP:20260420T220422Z
CATEGORIES:Horse Alerts
DESCRIPTION:Follow In The Box Seat Podcast Maiden Plate
DTSTART:20220502T131000
LOCATION:South Africa
SUMMARY:Horse Racing:Follow In The Box Seat Podcast Maiden Plate
END:VEVENT
END:VCALENDAR
