BEGIN:VCALENDAR
VERSION:2.0
PRODID:-//horsealert.local//NONSGML kigkonsult.se iCalcreator 2.10.5//
CALSCALE:GREGORIAN
X-WR-TIMEZONE:Europe/Dublin
BEGIN:VTIMEZONE
TZID:Etc/GMT-1
BEGIN:STANDARD
DTSTART:20010101T000000
TZOFFSETFROM:+0100
TZOFFSETTO:+0100
TZNAME:GMT +01:00
END:STANDARD
END:VTIMEZONE
BEGIN:VEVENT
UID:20260420T230253CEST-6343WZ1nno@horsealert.local
DTSTAMP:20260420T210453Z
CATEGORIES:Horse Alerts
DESCRIPTION:Tiu Chung Chau Handicap
DTSTART:20220518T121500
LOCATION:Hong Kong
SUMMARY:Horse Racing:Tiu Chung Chau Handicap
END:VEVENT
END:VCALENDAR
