BEGIN:VCALENDAR
VERSION:2.0
PRODID:-//horsealert.local//NONSGML kigkonsult.se iCalcreator 2.10.5//
CALSCALE:GREGORIAN
X-WR-TIMEZONE:Europe/Dublin
BEGIN:VTIMEZONE
TZID:Etc/GMT-1
BEGIN:STANDARD
DTSTART:20010101T000000
TZOFFSETFROM:+0100
TZOFFSETTO:+0100
TZNAME:GMT +01:00
END:STANDARD
END:VTIMEZONE
BEGIN:VEVENT
UID:20260421T003744CEST-6603gaxa7F@horsealert.local
DTSTAMP:20260420T220444Z
CATEGORIES:Horse Alerts
DESCRIPTION:World Sports Betting Stormsvlei Stakes (Listed) (3 Year-Old Fil
 lies)
DTSTART:20220521T140500
LOCATION:South Africa
SUMMARY:Horse Racing:World Sports Betting Stormsvlei Stakes (Listed) (3 Yea
 r-Old Fillies)
END:VEVENT
END:VCALENDAR
