BEGIN:VCALENDAR
VERSION:2.0
PRODID:-//horsealert.local//NONSGML kigkonsult.se iCalcreator 2.10.5//
CALSCALE:GREGORIAN
X-WR-TIMEZONE:Europe/Dublin
BEGIN:VTIMEZONE
TZID:Etc/GMT-1
BEGIN:STANDARD
DTSTART:20010101T000000
TZOFFSETFROM:+0100
TZOFFSETTO:+0100
TZNAME:GMT +01:00
END:STANDARD
END:VTIMEZONE
BEGIN:VEVENT
UID:20260420T230708CEST-9179Iv0dj8@horsealert.local
DTSTAMP:20260420T210408Z
CATEGORIES:Horse Alerts
DESCRIPTION:Alan Clarke 80th Birthday Handicap Chase
DTSTART:20220521T190000
LOCATION:England
SUMMARY:Horse Racing:Alan Clarke 80th Birthday Handicap Chase
END:VEVENT
END:VCALENDAR
