BEGIN:VCALENDAR
VERSION:2.0
PRODID:-//horsealert.local//NONSGML kigkonsult.se iCalcreator 2.10.5//
CALSCALE:GREGORIAN
X-WR-TIMEZONE:Europe/Dublin
BEGIN:VTIMEZONE
TZID:Etc/GMT-1
BEGIN:STANDARD
DTSTART:20010101T000000
TZOFFSETFROM:+0100
TZOFFSETTO:+0100
TZNAME:GMT +01:00
END:STANDARD
END:VTIMEZONE
BEGIN:VEVENT
UID:20260420T230637CEST-939360h5ZB@horsealert.local
DTSTAMP:20260420T210437Z
CATEGORIES:Horse Alerts
DESCRIPTION:William Hill Bet Boost Irish European Breeders Fund Fillies Mai
 den
DTSTART:20220522T172000
LOCATION:Eire
SUMMARY:Horse Racing:William Hill Bet Boost Irish European Breeders Fund Fi
 llies Maiden
END:VEVENT
END:VCALENDAR
