BEGIN:VCALENDAR
VERSION:2.0
PRODID:-//horsealert.local//NONSGML kigkonsult.se iCalcreator 2.10.5//
CALSCALE:GREGORIAN
X-WR-TIMEZONE:Europe/Dublin
BEGIN:VTIMEZONE
TZID:Etc/GMT-1
BEGIN:STANDARD
DTSTART:20010101T000000
TZOFFSETFROM:+0100
TZOFFSETTO:+0100
TZNAME:GMT +01:00
END:STANDARD
END:VTIMEZONE
BEGIN:VEVENT
UID:20260420T213225CEST-6567R8VGE2@horsealert.local
DTSTAMP:20260420T190425Z
CATEGORIES:Horse Alerts
DESCRIPTION:Tab Somerset 1200 (Listed)
DTSTART:20220605T152500
LOCATION:South Africa
SUMMARY:Horse Racing:Tab Somerset 1200 (Listed)
END:VEVENT
END:VCALENDAR
