BEGIN:VCALENDAR
VERSION:2.0
PRODID:-//horsealert.local//NONSGML kigkonsult.se iCalcreator 2.10.5//
CALSCALE:GREGORIAN
X-WR-TIMEZONE:Europe/Dublin
BEGIN:VTIMEZONE
TZID:Etc/GMT-1
BEGIN:STANDARD
DTSTART:20010101T000000
TZOFFSETFROM:+0100
TZOFFSETTO:+0100
TZNAME:GMT +01:00
END:STANDARD
END:VTIMEZONE
BEGIN:VEVENT
UID:20260420T213513CEST-0036OARViM@horsealert.local
DTSTAMP:20260420T190412Z
CATEGORIES:Horse Alerts
DESCRIPTION:Prix De Thionne - Attele
DTSTART:20220604T175500
LOCATION:France
SUMMARY:Horse Racing:Prix De Thionne - Attele
END:VEVENT
END:VCALENDAR
