BEGIN:VCALENDAR
VERSION:2.0
PRODID:-//horsealert.local//NONSGML kigkonsult.se iCalcreator 2.10.5//
CALSCALE:GREGORIAN
X-WR-TIMEZONE:Europe/Dublin
BEGIN:VTIMEZONE
TZID:Etc/GMT-1
BEGIN:STANDARD
DTSTART:20010101T000000
TZOFFSETFROM:+0100
TZOFFSETTO:+0100
TZNAME:GMT +01:00
END:STANDARD
END:VTIMEZONE
BEGIN:VEVENT
UID:20260420T213640CEST-9555u7TKwb@horsealert.local
DTSTAMP:20260420T190440Z
CATEGORIES:Horse Alerts
DESCRIPTION:Mike Ford Birthday Blaythwayt Plate Handicap
DTSTART:20220629T185000
LOCATION:England
SUMMARY:Horse Racing:Mike Ford Birthday Blaythwayt Plate Handicap
END:VEVENT
END:VCALENDAR
